BEGIN:VCALENDAR
VERSION:2.0
PRODID:-//Shoe Leather Gospel - ECPv6.15.20//NONSGML v1.0//EN
CALSCALE:GREGORIAN
METHOD:PUBLISH
X-ORIGINAL-URL:https://shoeleathergospel.com
X-WR-CALDESC:Events for Shoe Leather Gospel
REFRESH-INTERVAL;VALUE=DURATION:PT1H
X-Robots-Tag:noindex
X-PUBLISHED-TTL:PT1H
BEGIN:VTIMEZONE
TZID:America/Chicago
BEGIN:DAYLIGHT
TZOFFSETFROM:-0600
TZOFFSETTO:-0500
TZNAME:CDT
DTSTART:20250309T080000
END:DAYLIGHT
BEGIN:STANDARD
TZOFFSETFROM:-0500
TZOFFSETTO:-0600
TZNAME:CST
DTSTART:20251102T070000
END:STANDARD
BEGIN:DAYLIGHT
TZOFFSETFROM:-0600
TZOFFSETTO:-0500
TZNAME:CDT
DTSTART:20260308T080000
END:DAYLIGHT
BEGIN:STANDARD
TZOFFSETFROM:-0500
TZOFFSETTO:-0600
TZNAME:CST
DTSTART:20261101T070000
END:STANDARD
BEGIN:DAYLIGHT
TZOFFSETFROM:-0600
TZOFFSETTO:-0500
TZNAME:CDT
DTSTART:20270314T080000
END:DAYLIGHT
BEGIN:STANDARD
TZOFFSETFROM:-0500
TZOFFSETTO:-0600
TZNAME:CST
DTSTART:20271107T070000
END:STANDARD
END:VTIMEZONE
BEGIN:VEVENT
DTSTART;VALUE=DATE:20260501
DTEND;VALUE=DATE:20260502
DTSTAMP:20260425T094752
CREATED:20250508T004754Z
LAST-MODIFIED:20250508T004754Z
UID:2968-1777593600-1777679999@shoeleathergospel.com
SUMMARY:MosesÕ farewell address 3: Rituals and Festivals\, Part 2
DESCRIPTION:
URL:https://shoeleathergospel.com/listen/moseso-farewell-address-3-rituals-and-festivals-part-2/
LOCATION:Shoe Leather Gospel\, 801 Dellwood Street\, #292\, Bryan\, TX\, 77802\, United States
CATEGORIES:Journey Thru the Bible
ATTACH;FMTTYPE=image/jpeg:https://shoeleathergospel.com/wp-content/uploads/2025/05/image-37-lPuzVP.jpg
END:VEVENT
BEGIN:VEVENT
DTSTART;VALUE=DATE:20260502
DTEND;VALUE=DATE:20260503
DTSTAMP:20260425T094752
CREATED:20250423T223857Z
LAST-MODIFIED:20250508T015832Z
UID:2088-1777680000-1777766399@shoeleathergospel.com
SUMMARY:Mystery Babylon: The Great Religious Harlot
DESCRIPTION:
URL:https://shoeleathergospel.com/listen/mystery-babylon-the-great-religious-harlot/
LOCATION:TX
CATEGORIES:Footsteps of the Messiah
END:VEVENT
BEGIN:VEVENT
DTSTART;VALUE=DATE:20260503
DTEND;VALUE=DATE:20260504
DTSTAMP:20260425T094752
CREATED:20250423T223751Z
LAST-MODIFIED:20250508T015734Z
UID:1924-1777766400-1777852799@shoeleathergospel.com
SUMMARY:The Character of God: Communicable Attributes\, Part 17
DESCRIPTION:
URL:https://shoeleathergospel.com/listen/the-character-of-god-communicable-attributes-part-17/
LOCATION:TX
CATEGORIES:Walking with God
END:VEVENT
BEGIN:VEVENT
DTSTART;VALUE=DATE:20260504
DTEND;VALUE=DATE:20260505
DTSTAMP:20260425T094752
CREATED:20250508T004755Z
LAST-MODIFIED:20250508T004755Z
UID:2969-1777852800-1777939199@shoeleathergospel.com
SUMMARY:MosesÕ farewell address 3: Rituals and Festivals\, Part 3
DESCRIPTION:
URL:https://shoeleathergospel.com/listen/moseso-farewell-address-3-rituals-and-festivals-part-3/
LOCATION:Shoe Leather Gospel\, 801 Dellwood Street\, #292\, Bryan\, TX\, 77802\, United States
CATEGORIES:Journey Thru the Bible
ATTACH;FMTTYPE=image/jpeg:https://shoeleathergospel.com/wp-content/uploads/2025/05/image-37-lPuzVP.jpg
END:VEVENT
BEGIN:VEVENT
DTSTART;VALUE=DATE:20260505
DTEND;VALUE=DATE:20260506
DTSTAMP:20260425T094752
CREATED:20250508T004756Z
LAST-MODIFIED:20250508T004756Z
UID:2970-1777939200-1778025599@shoeleathergospel.com
SUMMARY:MosesÕ farewell address 3: Rituals and Festivals\, Part 4
DESCRIPTION:
URL:https://shoeleathergospel.com/listen/moseso-farewell-address-3-rituals-and-festivals-part-4/
LOCATION:Shoe Leather Gospel\, 801 Dellwood Street\, #292\, Bryan\, TX\, 77802\, United States
CATEGORIES:Journey Thru the Bible
ATTACH;FMTTYPE=image/jpeg:https://shoeleathergospel.com/wp-content/uploads/2025/05/image-37-lPuzVP.jpg
END:VEVENT
BEGIN:VEVENT
DTSTART;VALUE=DATE:20260506
DTEND;VALUE=DATE:20260507
DTSTAMP:20260425T094752
CREATED:20250508T004757Z
LAST-MODIFIED:20250508T004757Z
UID:2971-1778025600-1778111999@shoeleathergospel.com
SUMMARY:MosesÕ farewell address 4: The Laws\, Part 1
DESCRIPTION:
URL:https://shoeleathergospel.com/listen/moseso-farewell-address-4-the-laws-part-1/
LOCATION:Shoe Leather Gospel\, 801 Dellwood Street\, #292\, Bryan\, TX\, 77802\, United States
CATEGORIES:Journey Thru the Bible
ATTACH;FMTTYPE=image/jpeg:https://shoeleathergospel.com/wp-content/uploads/2025/05/image-37-lPuzVP.jpg
END:VEVENT
BEGIN:VEVENT
DTSTART;VALUE=DATE:20260507
DTEND;VALUE=DATE:20260508
DTSTAMP:20260425T094752
CREATED:20250508T004758Z
LAST-MODIFIED:20250508T004758Z
UID:2972-1778112000-1778198399@shoeleathergospel.com
SUMMARY:MosesÕ farewell address 4: The Laws\, Part 2
DESCRIPTION:
URL:https://shoeleathergospel.com/listen/moseso-farewell-address-4-the-laws-part-2/
LOCATION:Shoe Leather Gospel\, 801 Dellwood Street\, #292\, Bryan\, TX\, 77802\, United States
CATEGORIES:Journey Thru the Bible
ATTACH;FMTTYPE=image/jpeg:https://shoeleathergospel.com/wp-content/uploads/2025/05/image-37-lPuzVP.jpg
END:VEVENT
BEGIN:VEVENT
DTSTART;VALUE=DATE:20260508
DTEND;VALUE=DATE:20260509
DTSTAMP:20260425T094752
CREATED:20250508T004811Z
LAST-MODIFIED:20250508T004811Z
UID:2973-1778198400-1778284799@shoeleathergospel.com
SUMMARY:MosesÕ farewell address 4: The Laws\, Part 3
DESCRIPTION:
URL:https://shoeleathergospel.com/listen/moseso-farewell-address-4-the-laws-part-3/
LOCATION:Shoe Leather Gospel\, 801 Dellwood Street\, #292\, Bryan\, TX\, 77802\, United States
CATEGORIES:Journey Thru the Bible
ATTACH;FMTTYPE=image/jpeg:https://shoeleathergospel.com/wp-content/uploads/2025/05/image-37-lPuzVP.jpg
END:VEVENT
BEGIN:VEVENT
DTSTART;VALUE=DATE:20260509
DTEND;VALUE=DATE:20260510
DTSTAMP:20260425T094752
CREATED:20250423T223857Z
LAST-MODIFIED:20250508T015832Z
UID:2089-1778284800-1778371199@shoeleathergospel.com
SUMMARY:Commercial Babylon Falls: Economic Collapse
DESCRIPTION:
URL:https://shoeleathergospel.com/listen/commercial-babylon-falls-economic-collapse/
LOCATION:TX
CATEGORIES:Footsteps of the Messiah
END:VEVENT
BEGIN:VEVENT
DTSTART;VALUE=DATE:20260510
DTEND;VALUE=DATE:20260511
DTSTAMP:20260425T094752
CREATED:20250423T223751Z
LAST-MODIFIED:20250508T015734Z
UID:1925-1778371200-1778457599@shoeleathergospel.com
SUMMARY:The Character of God: Communicable Attributes\, Part 18
DESCRIPTION:
URL:https://shoeleathergospel.com/listen/the-character-of-god-communicable-attributes-part-18/
LOCATION:TX
CATEGORIES:Walking with God
END:VEVENT
BEGIN:VEVENT
DTSTART;VALUE=DATE:20260511
DTEND;VALUE=DATE:20260512
DTSTAMP:20260425T094752
CREATED:20250508T004812Z
LAST-MODIFIED:20250508T004812Z
UID:2974-1778457600-1778543999@shoeleathergospel.com
SUMMARY:MosesÕ farewell address 4: The Laws\, Part 4
DESCRIPTION:
URL:https://shoeleathergospel.com/listen/moseso-farewell-address-4-the-laws-part-4/
LOCATION:Shoe Leather Gospel\, 801 Dellwood Street\, #292\, Bryan\, TX\, 77802\, United States
CATEGORIES:Journey Thru the Bible
ATTACH;FMTTYPE=image/jpeg:https://shoeleathergospel.com/wp-content/uploads/2025/05/image-37-lPuzVP.jpg
END:VEVENT
BEGIN:VEVENT
DTSTART;VALUE=DATE:20260512
DTEND;VALUE=DATE:20260513
DTSTAMP:20260425T094752
CREATED:20250508T004813Z
LAST-MODIFIED:20250508T004813Z
UID:2975-1778544000-1778630399@shoeleathergospel.com
SUMMARY:MosesÕ farewell address 4: The Laws\, Part 5
DESCRIPTION:
URL:https://shoeleathergospel.com/listen/moseso-farewell-address-4-the-laws-part-5/
LOCATION:Shoe Leather Gospel\, 801 Dellwood Street\, #292\, Bryan\, TX\, 77802\, United States
CATEGORIES:Journey Thru the Bible
ATTACH;FMTTYPE=image/jpeg:https://shoeleathergospel.com/wp-content/uploads/2025/05/image-37-lPuzVP.jpg
END:VEVENT
BEGIN:VEVENT
DTSTART;VALUE=DATE:20260513
DTEND;VALUE=DATE:20260514
DTSTAMP:20260425T094752
CREATED:20250508T004814Z
LAST-MODIFIED:20250508T004814Z
UID:2976-1778630400-1778716799@shoeleathergospel.com
SUMMARY:MosesÕ farewell address 4: The Laws\, Part 6
DESCRIPTION:
URL:https://shoeleathergospel.com/listen/moseso-farewell-address-4-the-laws-part-6/
LOCATION:Shoe Leather Gospel\, 801 Dellwood Street\, #292\, Bryan\, TX\, 77802\, United States
CATEGORIES:Journey Thru the Bible
ATTACH;FMTTYPE=image/jpeg:https://shoeleathergospel.com/wp-content/uploads/2025/05/image-37-lPuzVP.jpg
END:VEVENT
BEGIN:VEVENT
DTSTART;VALUE=DATE:20260514
DTEND;VALUE=DATE:20260515
DTSTAMP:20260425T094752
CREATED:20250508T004815Z
LAST-MODIFIED:20250508T004815Z
UID:2977-1778716800-1778803199@shoeleathergospel.com
SUMMARY:MosesÕ farewell address 5: Blessings and Curses
DESCRIPTION:
URL:https://shoeleathergospel.com/listen/moseso-farewell-address-5-blessings-and-curses/
LOCATION:Shoe Leather Gospel\, 801 Dellwood Street\, #292\, Bryan\, TX\, 77802\, United States
CATEGORIES:Journey Thru the Bible
ATTACH;FMTTYPE=image/jpeg:https://shoeleathergospel.com/wp-content/uploads/2025/05/image-37-lPuzVP.jpg
END:VEVENT
BEGIN:VEVENT
DTSTART;VALUE=DATE:20260515
DTEND;VALUE=DATE:20260516
DTSTAMP:20260425T094752
CREATED:20250508T004817Z
LAST-MODIFIED:20250508T004817Z
UID:2978-1778803200-1778889599@shoeleathergospel.com
SUMMARY:MosesÕ farewell address 6: The Covenant Renewed
DESCRIPTION:
URL:https://shoeleathergospel.com/listen/moseso-farewell-address-6-the-covenant-renewed/
LOCATION:Shoe Leather Gospel\, 801 Dellwood Street\, #292\, Bryan\, TX\, 77802\, United States
CATEGORIES:Journey Thru the Bible
ATTACH;FMTTYPE=image/jpeg:https://shoeleathergospel.com/wp-content/uploads/2025/05/image-37-lPuzVP.jpg
END:VEVENT
BEGIN:VEVENT
DTSTART;VALUE=DATE:20260516
DTEND;VALUE=DATE:20260517
DTSTAMP:20260425T094752
CREATED:20250423T223858Z
LAST-MODIFIED:20250508T015833Z
UID:2090-1778889600-1778975999@shoeleathergospel.com
SUMMARY:Typology and Prophetic Symbolism: How to Avoid Allegorism
DESCRIPTION:
URL:https://shoeleathergospel.com/listen/typology-and-prophetic-symbolism-how-to-avoid-allegorism/
LOCATION:TX
CATEGORIES:Footsteps of the Messiah
END:VEVENT
BEGIN:VEVENT
DTSTART;VALUE=DATE:20260517
DTEND;VALUE=DATE:20260518
DTSTAMP:20260425T094752
CREATED:20250423T223752Z
LAST-MODIFIED:20250508T015735Z
UID:1926-1778976000-1779062399@shoeleathergospel.com
SUMMARY:God in Three Persons: The Trinity\, Part 1
DESCRIPTION:
URL:https://shoeleathergospel.com/listen/god-in-three-persons-the-trinity-part-1/
LOCATION:TX
CATEGORIES:Walking with God
END:VEVENT
BEGIN:VEVENT
DTSTART;VALUE=DATE:20260518
DTEND;VALUE=DATE:20260519
DTSTAMP:20260425T094752
CREATED:20250508T004818Z
LAST-MODIFIED:20250508T004818Z
UID:2979-1779062400-1779148799@shoeleathergospel.com
SUMMARY:Moses prepares for his death
DESCRIPTION:
URL:https://shoeleathergospel.com/listen/moses-prepares-for-his-death/
LOCATION:Shoe Leather Gospel\, 801 Dellwood Street\, #292\, Bryan\, TX\, 77802\, United States
CATEGORIES:Journey Thru the Bible
ATTACH;FMTTYPE=image/jpeg:https://shoeleathergospel.com/wp-content/uploads/2025/05/image-37-lPuzVP.jpg
END:VEVENT
BEGIN:VEVENT
DTSTART;VALUE=DATE:20260519
DTEND;VALUE=DATE:20260520
DTSTAMP:20260425T094752
CREATED:20250508T004819Z
LAST-MODIFIED:20250508T004819Z
UID:2980-1779148800-1779235199@shoeleathergospel.com
SUMMARY:The death of Moses\, Part 1
DESCRIPTION:
URL:https://shoeleathergospel.com/listen/the-death-of-moses-part-1/
LOCATION:Shoe Leather Gospel\, 801 Dellwood Street\, #292\, Bryan\, TX\, 77802\, United States
CATEGORIES:Journey Thru the Bible
ATTACH;FMTTYPE=image/jpeg:https://shoeleathergospel.com/wp-content/uploads/2025/05/image-37-lPuzVP.jpg
END:VEVENT
BEGIN:VEVENT
DTSTART;VALUE=DATE:20260520
DTEND;VALUE=DATE:20260521
DTSTAMP:20260425T094752
CREATED:20250508T004820Z
LAST-MODIFIED:20250508T004820Z
UID:2981-1779235200-1779321599@shoeleathergospel.com
SUMMARY:The death of Moses\, Part 2
DESCRIPTION:
URL:https://shoeleathergospel.com/listen/the-death-of-moses-part-2/
LOCATION:Shoe Leather Gospel\, 801 Dellwood Street\, #292\, Bryan\, TX\, 77802\, United States
CATEGORIES:Journey Thru the Bible
ATTACH;FMTTYPE=image/jpeg:https://shoeleathergospel.com/wp-content/uploads/2025/05/image-37-lPuzVP.jpg
END:VEVENT
BEGIN:VEVENT
DTSTART;VALUE=DATE:20260521
DTEND;VALUE=DATE:20260522
DTSTAMP:20260425T094752
CREATED:20250508T004821Z
LAST-MODIFIED:20250508T004821Z
UID:2982-1779321600-1779407999@shoeleathergospel.com
SUMMARY:In the Shadow of the Almighty
DESCRIPTION:
URL:https://shoeleathergospel.com/listen/in-the-shadow-of-the-almighty/
LOCATION:Shoe Leather Gospel\, 801 Dellwood Street\, #292\, Bryan\, TX\, 77802\, United States
CATEGORIES:Journey Thru the Bible
ATTACH;FMTTYPE=image/jpeg:https://shoeleathergospel.com/wp-content/uploads/2025/05/image-37-lPuzVP.jpg
END:VEVENT
BEGIN:VEVENT
DTSTART;VALUE=DATE:20260522
DTEND;VALUE=DATE:20260523
DTSTAMP:20260425T094752
CREATED:20250508T004825Z
LAST-MODIFIED:20250508T004825Z
UID:2983-1779408000-1779494399@shoeleathergospel.com
SUMMARY:Introduction to the Conquest
DESCRIPTION:
URL:https://shoeleathergospel.com/listen/introduction-to-the-conquest/
LOCATION:Shoe Leather Gospel\, 801 Dellwood Street\, #292\, Bryan\, TX\, 77802\, United States
CATEGORIES:Journey Thru the Bible
ATTACH;FMTTYPE=image/jpeg:https://shoeleathergospel.com/wp-content/uploads/2025/05/image-37-lPuzVP.jpg
END:VEVENT
BEGIN:VEVENT
DTSTART;VALUE=DATE:20260523
DTEND;VALUE=DATE:20260524
DTSTAMP:20260425T094752
CREATED:20250423T223858Z
LAST-MODIFIED:20250508T015833Z
UID:2091-1779494400-1779580799@shoeleathergospel.com
SUMMARY:What is Armageddon? Geography\, Strategy\, and Prophecy
DESCRIPTION:
URL:https://shoeleathergospel.com/listen/what-is-armageddon-geography-strategy-and-prophecy/
LOCATION:TX
CATEGORIES:Footsteps of the Messiah
END:VEVENT
BEGIN:VEVENT
DTSTART;VALUE=DATE:20260524
DTEND;VALUE=DATE:20260525
DTSTAMP:20260425T094752
CREATED:20250423T223752Z
LAST-MODIFIED:20250508T015735Z
UID:1927-1779580800-1779667199@shoeleathergospel.com
SUMMARY:God in Three Persons: The Trinity\, Part 2
DESCRIPTION:
URL:https://shoeleathergospel.com/listen/god-in-three-persons-the-trinity-part-2/
LOCATION:TX
CATEGORIES:Walking with God
END:VEVENT
BEGIN:VEVENT
DTSTART;VALUE=DATE:20260525
DTEND;VALUE=DATE:20260526
DTSTAMP:20260425T094752
CREATED:20250508T004826Z
LAST-MODIFIED:20250508T004826Z
UID:2984-1779667200-1779753599@shoeleathergospel.com
SUMMARY:Entering the Promised Land: Commission and Commands
DESCRIPTION:
URL:https://shoeleathergospel.com/listen/entering-the-promised-land-commission-and-commands/
LOCATION:Shoe Leather Gospel\, 801 Dellwood Street\, #292\, Bryan\, TX\, 77802\, United States
CATEGORIES:Journey Thru the Bible
ATTACH;FMTTYPE=image/jpeg:https://shoeleathergospel.com/wp-content/uploads/2025/05/image-37-lPuzVP.jpg
END:VEVENT
BEGIN:VEVENT
DTSTART;VALUE=DATE:20260526
DTEND;VALUE=DATE:20260527
DTSTAMP:20260425T094752
CREATED:20250508T004827Z
LAST-MODIFIED:20250508T004827Z
UID:2985-1779753600-1779839999@shoeleathergospel.com
SUMMARY:Entering the Promised Land: Contact of Spies with Rehab
DESCRIPTION:
URL:https://shoeleathergospel.com/listen/entering-the-promised-land-contact-of-spies-with-rehab/
LOCATION:Shoe Leather Gospel\, 801 Dellwood Street\, #292\, Bryan\, TX\, 77802\, United States
CATEGORIES:Journey Thru the Bible
ATTACH;FMTTYPE=image/jpeg:https://shoeleathergospel.com/wp-content/uploads/2025/05/image-37-lPuzVP.jpg
END:VEVENT
BEGIN:VEVENT
DTSTART;VALUE=DATE:20260527
DTEND;VALUE=DATE:20260528
DTSTAMP:20260425T094752
CREATED:20250508T004828Z
LAST-MODIFIED:20250508T004828Z
UID:2986-1779840000-1779926399@shoeleathergospel.com
SUMMARY:Entering the Promised Land: Crossing the Jordan River
DESCRIPTION:
URL:https://shoeleathergospel.com/listen/entering-the-promised-land-crossing-the-jordan-river/
LOCATION:Shoe Leather Gospel\, 801 Dellwood Street\, #292\, Bryan\, TX\, 77802\, United States
CATEGORIES:Journey Thru the Bible
ATTACH;FMTTYPE=image/jpeg:https://shoeleathergospel.com/wp-content/uploads/2025/05/image-37-lPuzVP.jpg
END:VEVENT
BEGIN:VEVENT
DTSTART;VALUE=DATE:20260528
DTEND;VALUE=DATE:20260529
DTSTAMP:20260425T094752
CREATED:20250508T004829Z
LAST-MODIFIED:20250508T004829Z
UID:2987-1779926400-1780012799@shoeleathergospel.com
SUMMARY:Entering the Promised Land: Conditioned for Conquest
DESCRIPTION:
URL:https://shoeleathergospel.com/listen/entering-the-promised-land-conditioned-for-conquest/
LOCATION:Shoe Leather Gospel\, 801 Dellwood Street\, #292\, Bryan\, TX\, 77802\, United States
CATEGORIES:Journey Thru the Bible
ATTACH;FMTTYPE=image/jpeg:https://shoeleathergospel.com/wp-content/uploads/2025/05/image-37-lPuzVP.jpg
END:VEVENT
BEGIN:VEVENT
DTSTART;VALUE=DATE:20260529
DTEND;VALUE=DATE:20260530
DTSTAMP:20260425T094752
CREATED:20250508T004831Z
LAST-MODIFIED:20250508T004831Z
UID:2988-1780012800-1780099199@shoeleathergospel.com
SUMMARY:Conquering the Land: The Central Campaign: Jerico
DESCRIPTION:
URL:https://shoeleathergospel.com/listen/conquering-the-land-the-central-campaign-jerico/
LOCATION:Shoe Leather Gospel\, 801 Dellwood Street\, #292\, Bryan\, TX\, 77802\, United States
CATEGORIES:Journey Thru the Bible
ATTACH;FMTTYPE=image/jpeg:https://shoeleathergospel.com/wp-content/uploads/2025/05/image-37-lPuzVP.jpg
END:VEVENT
BEGIN:VEVENT
DTSTART;VALUE=DATE:20260530
DTEND;VALUE=DATE:20260531
DTSTAMP:20260425T094752
CREATED:20250423T223859Z
LAST-MODIFIED:20250508T015834Z
UID:2092-1780099200-1780185599@shoeleathergospel.com
SUMMARY:The Campaign of Armageddon: Stages and Battlefields
DESCRIPTION:
URL:https://shoeleathergospel.com/listen/the-campaign-of-armageddon-stages-and-battlefields/
LOCATION:TX
CATEGORIES:Footsteps of the Messiah
END:VEVENT
END:VCALENDAR